BEGIN:VCALENDAR
VERSION:2.0
PRODID:spatie/icalendar-generator
DESCRIPTION:Events from paysonflycasters.org
X-WR-CALDESC:Events from paysonflycasters.org
REFRESH-INTERVAL;VALUE=DURATION:PT1440M
X-PUBLISHED-TTL:PT1440M
BEGIN:VTIMEZONE
TZID:America/Phoenix
BEGIN:STANDARD
DTSTART:20240728T080000Z
TZOFFSETFROM:-0700
TZOFFSETTO:-0700
END:STANDARD
END:VTIMEZONE
BEGIN:VTIMEZONE
TZID:UTC
BEGIN:STANDARD
DTSTART:20250724T230713Z
TZOFFSETFROM:+0000
TZOFFSETTO:+0000
END:STANDARD
END:VTIMEZONE
BEGIN:VEVENT
UID:32-20
DTSTAMP:20260420T230713Z
SUMMARY:Willow Springs Lake Cleanup Event
LOCATION:Willow Springs Lake Coconino County   AZ
ORGANIZER;CN=DeemsDavis:MAILTO:deems.davis@gmail.com
DTSTART;TZID=America/Phoenix:20250424T080000
DTEND;TZID=America/Phoenix:20250424T110000
X-ALT-DESC;FMTTYPE=TEXT/HTML:Willow Springs Lake\, Coconino County\, AZ\, U
 nited States Bring Trash Bags\, Pickups\, Gloves.  Fishing Gear for after
  the cleanup.
CATEGORIES:General
URL;VALUE=URI:https://paysonflycasters.org/mc-events/willow-springs-lake-cl
 eanup-event/
METHOD:PUBLISH
END:VEVENT
END:VCALENDAR